BEGIN:VCALENDAR
VERSION:2.0
BEGIN:VEVENT
URL:https://thebaso.oztix.com.au/outlet/event/9864a9bf-7cbd-41c2-992b-d1fc1801da16
DTSTART:20260614T090000Z
DTEND:20260614T090000Z
SUMMARY:Thirsty Merc
DESCRIPTION:Event details: https://thebaso.oztix.com.au/outlet/event/9864a9bf-7cbd-41c2-992b-d1fc1801da16
LOCATION:The Baso - Canberra (Belconnen, ACT)
END:VEVENT
END:VCALENDAR